BEGIN:VCALENDAR
VERSION:2.0
PRODID:-//Augusta Romaškevičiūtė - ECPv6.15.11//NONSGML v1.0//EN
CALSCALE:GREGORIAN
METHOD:PUBLISH
X-WR-CALNAME:Augusta Romaškevičiūtė
X-ORIGINAL-URL:https://augustaviola.com
X-WR-CALDESC:Events for Augusta Romaškevičiūtė
REFRESH-INTERVAL;VALUE=DURATION:PT1H
X-Robots-Tag:noindex
X-PUBLISHED-TTL:PT1H
BEGIN:VTIMEZONE
TZID:Europe/Vilnius
BEGIN:DAYLIGHT
TZOFFSETFROM:+0200
TZOFFSETTO:+0300
TZNAME:EEST
DTSTART:20250330T010000
END:DAYLIGHT
BEGIN:STANDARD
TZOFFSETFROM:+0300
TZOFFSETTO:+0200
TZNAME:EET
DTSTART:20251026T010000
END:STANDARD
BEGIN:DAYLIGHT
TZOFFSETFROM:+0200
TZOFFSETTO:+0300
TZNAME:EEST
DTSTART:20260329T010000
END:DAYLIGHT
BEGIN:STANDARD
TZOFFSETFROM:+0300
TZOFFSETTO:+0200
TZNAME:EET
DTSTART:20261025T010000
END:STANDARD
BEGIN:DAYLIGHT
TZOFFSETFROM:+0200
TZOFFSETTO:+0300
TZNAME:EEST
DTSTART:20270328T010000
END:DAYLIGHT
BEGIN:STANDARD
TZOFFSETFROM:+0300
TZOFFSETTO:+0200
TZNAME:EET
DTSTART:20271031T010000
END:STANDARD
END:VTIMEZONE
BEGIN:VEVENT
DTSTART;TZID=Europe/Vilnius:20260516T190000
DTEND;TZID=Europe/Vilnius:20260516T203000
DTSTAMP:20260420T161838
CREATED:20251007T095205Z
LAST-MODIFIED:20251007T095205Z
UID:510-1778958000-1778963400@augustaviola.com
SUMMARY:"Small Talk" chamber music for oboe and strings
DESCRIPTION:
URL:https://augustaviola.com/event/small-talk-chamber-music-for-oboe-and-strings-2/
LOCATION:Klaipėdos koncertų salė\, Šaulių g. 36\, Klaipėda
END:VEVENT
END:VCALENDAR