BEGIN:VCALENDAR
VERSION:2.0
PRODID:-//Augusta Romaškevičiūtė - ECPv6.15.11//NONSGML v1.0//EN
CALSCALE:GREGORIAN
METHOD:PUBLISH
X-WR-CALNAME:Augusta Romaškevičiūtė
X-ORIGINAL-URL:https://augustaviola.com
X-WR-CALDESC:Events for Augusta Romaškevičiūtė
REFRESH-INTERVAL;VALUE=DURATION:PT1H
X-Robots-Tag:noindex
X-PUBLISHED-TTL:PT1H
BEGIN:VTIMEZONE
TZID:UTC
BEGIN:STANDARD
TZOFFSETFROM:+0000
TZOFFSETTO:+0000
TZNAME:UTC
DTSTART:20250101T000000
END:STANDARD
END:VTIMEZONE
BEGIN:VTIMEZONE
TZID:Europe/Berlin
BEGIN:DAYLIGHT
TZOFFSETFROM:+0100
TZOFFSETTO:+0200
TZNAME:CEST
DTSTART:20240331T010000
END:DAYLIGHT
BEGIN:STANDARD
TZOFFSETFROM:+0200
TZOFFSETTO:+0100
TZNAME:CET
DTSTART:20241027T010000
END:STANDARD
BEGIN:DAYLIGHT
TZOFFSETFROM:+0100
TZOFFSETTO:+0200
TZNAME:CEST
DTSTART:20250330T010000
END:DAYLIGHT
BEGIN:STANDARD
TZOFFSETFROM:+0200
TZOFFSETTO:+0100
TZNAME:CET
DTSTART:20251026T010000
END:STANDARD
BEGIN:DAYLIGHT
TZOFFSETFROM:+0100
TZOFFSETTO:+0200
TZNAME:CEST
DTSTART:20260329T010000
END:DAYLIGHT
BEGIN:STANDARD
TZOFFSETFROM:+0200
TZOFFSETTO:+0100
TZNAME:CET
DTSTART:20261025T010000
END:STANDARD
END:VTIMEZONE
BEGIN:VEVENT
DTSTART;TZID=UTC:20260419T163000
DTEND;TZID=UTC:20260419T173000
DTSTAMP:20260420T233133
CREATED:20250910T202641Z
LAST-MODIFIED:20250923T222029Z
UID:301-1776616200-1776619800@augustaviola.com
SUMMARY:Relaxed Performance
DESCRIPTION:Sanftes Licht\, offene Türen und eine lockere Bestuhlung: In entspannter Atmosphäre spielen Mitglieder der Düsseldorfer Symphoniker Kammermusik. »Relaxed Performances« widmen sich neurodivergenten und behinderten Menschen\, die von einer reiz- und barrierearmen Konzertumgebung profitieren. Es ist ein knapp einstündiges Konzertformat\, das sich von der konventionellen Konzertetikette löst und durch zugängliche Moderation begleitet wird. \nKerstin Beavers | Viola\nRalf Buchkremer | Viola\nSimón Julián Doggenweiler-Menkhaus | Viola\nAugusta Romaskeviciute-Cruz | Viola
URL:https://augustaviola.com/event/relaxed-performance/
LOCATION:Tonhalle Düsseldorf\, Trautvetter-Brückner-Saal\, Ehrenhof 1\, Düsseldorf\, 40479\, Germany
END:VEVENT
BEGIN:VEVENT
DTSTART;VALUE=DATE:20251112
DTEND;VALUE=DATE:20260101
DTSTAMP:20260420T233133
CREATED:20251108T130751Z
LAST-MODIFIED:20251108T131142Z
UID:513-1762905600-1767225599@augustaviola.com
SUMMARY:Time off!
DESCRIPTION:Taking some time off to take care of my recently born daughter:)\nHowever – a lot of organizational work is being done as well as short but rewarding practice sessions.\nI am enjoying this beautiful time and looking forward to be back on stage very soon!
URL:https://augustaviola.com/event/time-off/
END:VEVENT
END:VCALENDAR